BEGIN:VCALENDAR
VERSION:2.0
PRODID:icalendar-ruby
CALSCALE:GREGORIAN
METHOD:PUBLISH
BEGIN:VEVENT
DTSTAMP:20260424T201004Z
UID:47-1120855@elohimkingdom.com
DTSTART:20240921T160000Z
DTEND:20240921T183000Z
CLASS:PUBLIC
CREATED:20260424T153954
DESCRIPTION:Supernatural Saturday
LAST-MODIFIED:20260424T153954
LOCATION:15740 Racho Rd Taylor MI 48180
SUMMARY:Supernatural Saturday
URL;VALUE=URI:https://www.elohimkingdomministries.com/events/supernatural-s
 aturday/2024-09-21
END:VEVENT
END:VCALENDAR
