BEGIN:VCALENDAR
VERSION:2.0
PRODID:icalendar-ruby
CALSCALE:GREGORIAN
METHOD:PUBLISH
BEGIN:VEVENT
DTSTAMP:20260424T144627Z
UID:47-1119850@elohimkingdom.com
DTSTART:20240831T160000Z
DTEND:20240831T183000Z
CLASS:PUBLIC
CREATED:20260424T100404
DESCRIPTION:Supernatural Saturday
LAST-MODIFIED:20260424T100404
LOCATION:15740 Racho Rd Taylor MI 48180
SUMMARY:Supernatural Saturday
URL;VALUE=URI:https://www.elohimkingdomministries.com/events/supernatural-s
 aturday/2024-08-31
END:VEVENT
END:VCALENDAR
