BEGIN:VCALENDAR
VERSION:2.0
PRODID:icalendar-ruby
CALSCALE:GREGORIAN
METHOD:PUBLISH
BEGIN:VEVENT
DTSTAMP:20260424T125336Z
UID:47-1119348@elohimkingdom.com
DTSTART:20240824T160000Z
DTEND:20240824T183000Z
CLASS:PUBLIC
CREATED:20260424T071002
DESCRIPTION:Supernatural Saturday
LAST-MODIFIED:20260424T071002
LOCATION:15740 Racho Rd Taylor MI 48180
SUMMARY:Supernatural Saturday
URL;VALUE=URI:https://www.elohimkingdomministries.com/events/supernatural-s
 aturday/2024-08-24
END:VEVENT
END:VCALENDAR
