BEGIN:VCALENDAR
VERSION:2.0
PRODID:icalendar-ruby
CALSCALE:GREGORIAN
METHOD:PUBLISH
BEGIN:VEVENT
DTSTAMP:20260424T015227Z
UID:47-1118841@elohimkingdom.com
DTSTART:20240713T160000Z
DTEND:20240713T183000Z
CLASS:PUBLIC
CREATED:20260423T214147
DESCRIPTION:Supernatural Saturday
LAST-MODIFIED:20260423T214147
LOCATION:15740 Racho Rd Taylor MI 48180
SUMMARY:Supernatural Saturday
URL;VALUE=URI:https://www.elohimkingdomministries.com/events/supernatural-s
 aturday/2024-07-13
END:VEVENT
END:VCALENDAR
