BEGIN:VCALENDAR
VERSION:2.0
PRODID:icalendar-ruby
CALSCALE:GREGORIAN
METHOD:PUBLISH
BEGIN:VEVENT
DTSTAMP:20260423T152107Z
UID:47-1116831@elohimkingdom.com
DTSTART:20240601T160000Z
DTEND:20240601T183000Z
CLASS:PUBLIC
CREATED:20260423T100349
DESCRIPTION:Supernatural Saturday
LAST-MODIFIED:20260423T100349
LOCATION:15740 Racho Rd Taylor MI 48180
SUMMARY:Supernatural Saturday
URL;VALUE=URI:https://www.elohimkingdomministries.com/events/supernatural-s
 aturday/2024-06-01
END:VEVENT
END:VCALENDAR
