BEGIN:VCALENDAR
VERSION:2.0
PRODID:icalendar-ruby
CALSCALE:GREGORIAN
METHOD:PUBLISH
BEGIN:VEVENT
DTSTAMP:20260423T111032Z
UID:47-1116328@elohimkingdom.com
DTSTART:20240518T160000Z
DTEND:20240518T183000Z
CLASS:PUBLIC
CREATED:20260423T070919
DESCRIPTION:Supernatural Saturday
LAST-MODIFIED:20260423T070919
LOCATION:15740 Racho Rd Taylor MI 48180
SUMMARY:Supernatural Saturday
URL;VALUE=URI:https://www.elohimkingdomministries.com/events/supernatural-s
 aturday/2024-05-18
END:VEVENT
END:VCALENDAR
