BEGIN:VCALENDAR
VERSION:2.0
PRODID:icalendar-ruby
CALSCALE:GREGORIAN
METHOD:PUBLISH
BEGIN:VEVENT
DTSTAMP:20260421T020747Z
UID:47-1109821@elohimkingdom.com
DTSTART:20240413T160000Z
DTEND:20240413T183000Z
CLASS:PUBLIC
CREATED:20260420T195544
DESCRIPTION:Supernatural Saturday
LAST-MODIFIED:20260420T195544
LOCATION:15740 Racho Rd Taylor MI 48180
SUMMARY:Supernatural Saturday
URL;VALUE=URI:https://www.elohimkingdomministries.com/events/supernatural-s
 aturday/2024-04-13
END:VEVENT
END:VCALENDAR
