BEGIN:VCALENDAR
VERSION:2.0
PRODID:icalendar-ruby
CALSCALE:GREGORIAN
METHOD:PUBLISH
BEGIN:VEVENT
DTSTAMP:20260420T202700Z
UID:47-1108818@elohimkingdom.com
DTSTART:20240323T160000Z
DTEND:20240323T183000Z
CLASS:PUBLIC
CREATED:20260420T144436
DESCRIPTION:Supernatural Saturday
LAST-MODIFIED:20260420T144436
LOCATION:15740 Racho Rd Taylor MI 48180
SUMMARY:Supernatural Saturday
URL;VALUE=URI:https://www.elohimkingdomministries.com/events/supernatural-s
 aturday/2024-03-23
END:VEVENT
END:VCALENDAR
