BEGIN:VCALENDAR
VERSION:2.0
PRODID:icalendar-ruby
CALSCALE:GREGORIAN
METHOD:PUBLISH
BEGIN:VEVENT
DTSTAMP:20260420T080206Z
UID:47-1106811@elohimkingdom.com
DTSTART:20240203T170000Z
DTEND:20240203T193000Z
CLASS:PUBLIC
CREATED:20260420T015223
DESCRIPTION:Supernatural Saturday
LAST-MODIFIED:20260420T015223
LOCATION:15740 Racho Rd Taylor MI 48180
SUMMARY:Supernatural Saturday
URL;VALUE=URI:https://www.elohimkingdomministries.com/events/supernatural-s
 aturday/2024-02-03
END:VEVENT
END:VCALENDAR
