BEGIN:VCALENDAR
VERSION:2.0
PRODID:icalendar-ruby
CALSCALE:GREGORIAN
METHOD:PUBLISH
BEGIN:VEVENT
DTSTAMP:20260420T060633Z
UID:47-1106810@elohimkingdom.com
DTSTART:20240127T170000Z
DTEND:20240127T193000Z
CLASS:PUBLIC
CREATED:20260420T015223
DESCRIPTION:Supernatural Saturday
LAST-MODIFIED:20260420T015223
LOCATION:15740 Racho Rd Taylor MI 48180
SUMMARY:Supernatural Saturday
URL;VALUE=URI:https://www.elohimkingdomministries.com/events/supernatural-s
 aturday/2024-01-27
END:VEVENT
END:VCALENDAR
