BEGIN:VCALENDAR
VERSION:2.0
PRODID:icalendar-ruby
CALSCALE:GREGORIAN
METHOD:PUBLISH
BEGIN:VEVENT
DTSTAMP:20260423T090915Z
UID:47-1115802@elohimkingdom.com
DTSTART:20231125T170000Z
DTEND:20231125T193000Z
CLASS:PUBLIC
CREATED:20260422T213950
DESCRIPTION:Supernatural Saturday
LAST-MODIFIED:20260422T213950
LOCATION:15740 Racho Rd Taylor MI 48180
SUMMARY:Supernatural Saturday
URL;VALUE=URI:https://www.elohimkingdomministries.com/events/supernatural-s
 aturday/2023-11-25
END:VEVENT
END:VCALENDAR
